BEGIN:VCALENDAR
VERSION:2.0
PRODID:-//The Tasting Room of Travelers Rest - ECPv6.15.17.1//NONSGML v1.0//EN
CALSCALE:GREGORIAN
METHOD:PUBLISH
X-ORIGINAL-URL:https://tastingroomtr.com
X-WR-CALDESC:Events for The Tasting Room of Travelers Rest
REFRESH-INTERVAL;VALUE=DURATION:PT1H
X-Robots-Tag:noindex
X-PUBLISHED-TTL:PT1H
BEGIN:VTIMEZONE
TZID:America/New_York
BEGIN:DAYLIGHT
TZOFFSETFROM:-0500
TZOFFSETTO:-0400
TZNAME:EDT
DTSTART:20250309T070000
END:DAYLIGHT
BEGIN:STANDARD
TZOFFSETFROM:-0400
TZOFFSETTO:-0500
TZNAME:EST
DTSTART:20251102T060000
END:STANDARD
BEGIN:DAYLIGHT
TZOFFSETFROM:-0500
TZOFFSETTO:-0400
TZNAME:EDT
DTSTART:20260308T070000
END:DAYLIGHT
BEGIN:STANDARD
TZOFFSETFROM:-0400
TZOFFSETTO:-0500
TZNAME:EST
DTSTART:20261101T060000
END:STANDARD
BEGIN:DAYLIGHT
TZOFFSETFROM:-0500
TZOFFSETTO:-0400
TZNAME:EDT
DTSTART:20270314T070000
END:DAYLIGHT
BEGIN:STANDARD
TZOFFSETFROM:-0400
TZOFFSETTO:-0500
TZNAME:EST
DTSTART:20271107T060000
END:STANDARD
END:VTIMEZONE
BEGIN:VEVENT
DTSTART;TZID=America/New_York:20260416T180000
DTEND;TZID=America/New_York:20260416T203000
DTSTAMP:20260421T061632
CREATED:20260413T220402Z
LAST-MODIFIED:20260413T220402Z
UID:2394-1776362400-1776371400@tastingroomtr.com
SUMMARY:Live Music w/Doug Dimond
DESCRIPTION:Join us at The Tasting Room TR on Thursday\, April 16 for an evening of live music with Doug Dimond from 6:00–8:30 PM. \nEnjoy a relaxing set of acoustic classics along with many of your favorite songs\, perfect for a laid-back night out with friends. Doug’s easygoing style creates the ideal atmosphere to sip on a glass of fine wine or a craft beer while you unwind. \nGrab your favorite pour\, settle in\, and enjoy great music\, great vibes\, and a perfect evening in Travelers Rest. 🎶🍷
URL:https://tastingroomtr.com/misc/live-music-w-doug-dimond/
LOCATION:The Tasting Room TR\, 164 S. Main Street.\, Ste. C\, Travelers Rest\, SC\, 29690\, United States
CATEGORIES:Live Entertainment
ATTACH;FMTTYPE=image/png:https://tastingroomtr.com/wp-content/uploads/2026/04/The-Tasting-Room-TR-Doug-Dimond-Website.png
ORGANIZER;CN="Michelle":MAILTO:thetastingroomtr@gmail.com
END:VEVENT
END:VCALENDAR